Index of /checkResults/release/bioc-LATEST/VariantExperiment/raw-results/kjohnson3
Name
Last modified
Size
Description
Parent Directory
-
install-summary.dcf
12-Jun-2024 03:44
289
buildsrc-summary.dcf
12-Jun-2024 03:44
363
install-out.txt
12-Jun-2024 03:44
1.0K
buildsrc-out.txt
12-Jun-2024 03:44
1.1K