Index of /checkResults/release/bioc-LATEST/VariantExperiment/raw-results/kjohnson1
Name
Last modified
Size
Description
Parent Directory
-
install-summary.dcf
24-Jul-2024 22:08
289
buildsrc-summary.dcf
24-Jul-2024 22:08
363
install-out.txt
24-Jul-2024 22:08
1.0K
buildsrc-out.txt
24-Jul-2024 22:08
1.1K