Name | Last modified | Size | Description | |
---|---|---|---|---|
Parent Directory | - | |||
buildsrc-out.txt | 24-Jul-2024 22:04 | 810 | ||
buildsrc-summary.dcf | 24-Jul-2024 22:04 | 420 | ||
checksrc-out.txt | 24-Jul-2024 22:04 | 3.3K | ||
checksrc-summary.dcf | 24-Jul-2024 22:04 | 418 | ||
install-out.txt | 24-Jul-2024 22:04 | 947 | ||
install-summary.dcf | 24-Jul-2024 22:04 | 261 | ||