Name | Last modified | Size | Description | |
---|---|---|---|---|
Parent Directory | - | |||
info.dcf | 24-Jul-2024 22:03 | 266 | ||
palomino7/ | 24-Jul-2024 22:05 | - | ||
palomino3/ | 29-Jun-2024 06:42 | - | ||
nebbiolo1/ | 24-Jul-2024 22:04 | - | ||
merida1/ | 24-Jul-2024 22:06 | - | ||
lconway/ | 12-Jun-2024 03:43 | - | ||
kunpeng2/ | 10-May-2024 00:41 | - | ||
kjohnson3/ | 12-Jun-2024 03:44 | - | ||
kjohnson1/ | 24-Jul-2024 22:08 | - | ||