Index of /checkResults/release/bioc-LATEST/Uniquorn/raw-results/riesling1

[ICO]NameLast modifiedSizeDescription

[DIR]Parent Directory  -  
[TXT]buildbin-out.txt19-Mar-2022 00:08 2.2K 
[   ]buildbin-summary.dcf19-Mar-2022 00:08 521  
[TXT]buildsrc-out.txt19-Mar-2022 00:08 881  
[   ]buildsrc-summary.dcf19-Mar-2022 00:08 456  
[TXT]checksrc-out.txt19-Mar-2022 00:08 5.3K 
[   ]checksrc-summary.dcf19-Mar-2022 00:08 457  
[TXT]install-out.txt19-Mar-2022 00:08 2.1K 
[   ]install-summary.dcf19-Mar-2022 00:08 270