Index of /checkResults/release/bioc-LATEST/Uniquorn/raw-results/palomino3

[ICO]NameLast modifiedSizeDescription

[DIR]Parent Directory  -  
[TXT]install-out.txt04-Aug-2022 02:22 965  
[   ]install-summary.dcf04-Aug-2022 02:22 270  
[TXT]buildsrc-out.txt04-Aug-2022 02:22 881  
[   ]buildsrc-summary.dcf04-Aug-2022 02:22 456  
[TXT]checksrc-out.txt04-Aug-2022 02:22 5.3K 
[   ]checksrc-summary.dcf04-Aug-2022 02:22 457  
[TXT]buildbin-out.txt04-Aug-2022 02:22 1.1K 
[   ]buildbin-summary.dcf04-Aug-2022 02:22 521