Index of /checkResults/release/bioc-LATEST/Uniquorn/raw-results/palomino3

[ICO]NameLast modifiedSizeDescription

[DIR]Parent Directory  -  
[TXT]buildbin-out.txt25-Jun-2022 01:06 1.1K 
[   ]buildbin-summary.dcf25-Jun-2022 01:06 521  
[TXT]buildsrc-out.txt25-Jun-2022 01:06 881  
[   ]buildsrc-summary.dcf25-Jun-2022 01:06 456  
[TXT]checksrc-out.txt25-Jun-2022 01:06 5.3K 
[   ]checksrc-summary.dcf25-Jun-2022 01:06 457  
[TXT]install-out.txt25-Jun-2022 01:06 965  
[   ]install-summary.dcf25-Jun-2022 01:06 270