Name | Last modified | Size | Description | |
---|---|---|---|---|
Parent Directory | - | |||
buildsrc-out.txt | 13-Jul-2024 06:39 | 810 | ||
buildsrc-summary.dcf | 13-Jul-2024 06:39 | 420 | ||
checksrc-out.txt | 13-Jul-2024 06:39 | 4.9K | ||
checksrc-summary.dcf | 13-Jul-2024 06:39 | 418 | ||
install-out.txt | 13-Jul-2024 06:39 | 955 | ||
install-summary.dcf | 13-Jul-2024 06:39 | 261 | ||