![]() | Name | Last modified | Size | Description |
---|---|---|---|---|
![]() | Parent Directory | - | ||
![]() | install-out.txt | 06-Aug-2022 03:20 | 1.0K | |
![]() | install-summary.dcf | 06-Aug-2022 03:20 | 271 | |
![]() | buildsrc-out.txt | 06-Aug-2022 03:20 | 860 | |
![]() | buildsrc-summary.dcf | 06-Aug-2022 03:20 | 430 | |
![]() | checksrc-out.txt | 06-Aug-2022 03:20 | 5.3K | |
![]() | checksrc-summary.dcf | 06-Aug-2022 03:20 | 454 | |
![]() | buildbin-out.txt | 06-Aug-2022 03:20 | 1.2K | |
![]() | buildbin-summary.dcf | 06-Aug-2022 03:20 | 536 | |