Back to Multiple platform build/check report for BioC 3.16:   simplified   long
ABCDEFGHIJKLMNOPQRST[U]VWXYZ

This page was generated on 2023-02-06 11:05:48 -0500 (Mon, 06 Feb 2023).

HostnameOSArch (*)R versionInstalled pkgs
nebbiolo2Linux (Ubuntu 20.04.5 LTS)x86_644.2.2 (2022-10-31) -- "Innocent and Trusting" 4511
palomino4Windows Server 2022 Datacenterx644.2.2 (2022-10-31 ucrt) -- "Innocent and Trusting" 4289
lconwaymacOS 12.5.1 Montereyx86_644.2.2 (2022-10-31) -- "Innocent and Trusting" 4318
Click on any hostname to see more info about the system (e.g. compilers)      (*) as reported by 'uname -p', except on Windows and Mac OS X

CHECK results for Uniquorn on palomino4


To the developers/maintainers of the Uniquorn package:
- Please allow up to 24 hours (and sometimes 48 hours) for your latest push to git@git.bioconductor.org:packages/Uniquorn.git to
reflect on this report. See How and When does the builder pull? When will my changes propagate? for more information.
- Make sure to use the following settings in order to reproduce any error or warning you see on this page.

raw results

Package 2125/2183HostnameOS / ArchINSTALLBUILDCHECKBUILD BIN
Uniquorn 2.18.0  (landing page)
'Raik Otto'
Snapshot Date: 2023-02-05 14:00:05 -0500 (Sun, 05 Feb 2023)
git_url: https://git.bioconductor.org/packages/Uniquorn
git_branch: RELEASE_3_16
git_last_commit: 8822afd
git_last_commit_date: 2022-11-01 11:13:05 -0500 (Tue, 01 Nov 2022)
nebbiolo2Linux (Ubuntu 20.04.5 LTS) / x86_64  OK    OK    OK  UNNEEDED, same version is already published
palomino4Windows Server 2022 Datacenter / x64  OK    OK    OK    OK  UNNEEDED, same version is already published
lconwaymacOS 12.5.1 Monterey / x86_64  OK    OK    OK    OK  UNNEEDED, same version is already published

Summary

Package: Uniquorn
Version: 2.18.0
Command: F:\biocbuild\bbs-3.16-bioc\R\bin\R.exe CMD check --no-multiarch --install=check:Uniquorn.install-out.txt --library=F:\biocbuild\bbs-3.16-bioc\R\library --no-vignettes --timings Uniquorn_2.18.0.tar.gz
StartedAt: 2023-02-06 06:39:54 -0500 (Mon, 06 Feb 2023)
EndedAt: 2023-02-06 06:44:39 -0500 (Mon, 06 Feb 2023)
EllapsedTime: 284.8 seconds
RetCode: 0
Status:   OK  
CheckDir: Uniquorn.Rcheck
Warnings: 0

Command output

##############################################################################
##############################################################################
###
### Running command:
###
###   F:\biocbuild\bbs-3.16-bioc\R\bin\R.exe CMD check --no-multiarch --install=check:Uniquorn.install-out.txt --library=F:\biocbuild\bbs-3.16-bioc\R\library --no-vignettes --timings Uniquorn_2.18.0.tar.gz
###
##############################################################################
##############################################################################


* using log directory 'F:/biocbuild/bbs-3.16-bioc/meat/Uniquorn.Rcheck'
* using R version 4.2.2 (2022-10-31 ucrt)
* using platform: x86_64-w64-mingw32 (64-bit)
* using session charset: UTF-8
* using option '--no-vignettes'
* checking for file 'Uniquorn/DESCRIPTION' ... OK
* checking extension type ... Package
* this is package 'Uniquorn' version '2.18.0'
* package encoding: UTF-8
* checking package namespace information ... OK
* checking package dependencies ... OK
* checking if this is a source package ... OK
* checking if there is a namespace ... OK
* checking for hidden files and directories ... OK
* checking for portable file names ... OK
* checking whether package 'Uniquorn' can be installed ... OK
* checking installed package size ... NOTE
  installed size is  7.6Mb
  sub-directories of 1Mb or more:
    extdata   6.5Mb
* checking package directory ... OK
* checking 'build' directory ... OK
* checking DESCRIPTION meta-information ... OK
* checking top-level files ... OK
* checking for left-over files ... OK
* checking index information ... OK
* checking package subdirectories ... OK
* checking R files for non-ASCII characters ... OK
* checking R files for syntax errors ... OK
* checking whether the package can be loaded ... OK
* checking whether the package can be loaded with stated dependencies ... OK
* checking whether the package can be unloaded cleanly ... OK
* checking whether the namespace can be loaded with stated dependencies ... OK
* checking whether the namespace can be unloaded cleanly ... OK
* checking dependencies in R code ... OK
* checking S3 generic/method consistency ... OK
* checking replacement functions ... OK
* checking foreign function calls ... OK
* checking R code for possible problems ... NOTE
add_p_q_values_statistics: no visible binding for '<<-' assignment to
  'sig_vec'
add_p_q_values_statistics: no visible binding for global variable
  'sig_vec'
create_bed_file: no visible binding for global variable 'res_table'
create_bed_file: no visible binding for global variable 'sim_list'
identify_vcf_file: no visible binding for global variable
  'vcf_fingerprint'
identify_vcf_file: no visible binding for global variable
  'output_file_xls'
init_and_load_identification: no visible global function definition for
  'tail'
parse_ccle_genotype_data: no visible binding for global variable
  'Cell_line'
parse_ccle_genotype_data: no visible binding for global variable '.SD'
parse_ccle_genotype_data: no visible binding for global variable
  'Index'
parse_cosmic_genotype_data: no visible binding for global variable
  'position'
parse_cosmic_genotype_data: no visible binding for global variable
  '.SD'
parse_cosmic_genotype_data: no visible binding for global variable
  'Index'
show_contained_ccls: no visible binding for '<<-' assignment to
  'ccls_all'
show_contained_ccls: no visible binding for global variable 'ccls_all'
write_w0_and_split_w0_into_lower_weights: no visible binding for '<<-'
  assignment to 'g_mat_exclude'
write_w0_and_split_w0_into_lower_weights: no visible binding for global
  variable 'g_mat_exclude'
Undefined global functions or variables:
  .SD Cell_line Index ccls_all g_mat_exclude output_file_xls position
  res_table sig_vec sim_list tail vcf_fingerprint
Consider adding
  importFrom("utils", "tail")
to your NAMESPACE file.
* checking Rd files ... OK
* checking Rd metadata ... OK
* checking Rd cross-references ... OK
* checking for missing documentation entries ... OK
* checking for code/documentation mismatches ... OK
* checking Rd \usage sections ... OK
* checking Rd contents ... OK
* checking for unstated dependencies in examples ... OK
* checking files in 'vignettes' ... OK
* checking examples ... OK
Examples with CPU (user + system) or elapsed time > 5s
                           user system elapsed
add_custom_vcf_to_database 6.36   0.27    6.66
* checking for unstated dependencies in 'tests' ... OK
* checking tests ...
  Running 'testthat.R'
 OK
* checking for unstated dependencies in vignettes ... OK
* checking package vignettes in 'inst/doc' ... OK
* checking running R code from vignettes ... SKIPPED
* checking re-building of vignette outputs ... SKIPPED
* checking PDF version of manual ... OK
* DONE

Status: 2 NOTEs
See
  'F:/biocbuild/bbs-3.16-bioc/meat/Uniquorn.Rcheck/00check.log'
for details.



Installation output

Uniquorn.Rcheck/00install.out

##############################################################################
##############################################################################
###
### Running command:
###
###   F:\biocbuild\bbs-3.16-bioc\R\bin\R.exe CMD INSTALL Uniquorn
###
##############################################################################
##############################################################################


* installing to library 'F:/biocbuild/bbs-3.16-bioc/R/library'
* installing *source* package 'Uniquorn' ...
** using staged installation
** R
** inst
** byte-compile and prepare package for lazy loading
** help
*** installing help indices
** building package indices
** installing vignettes
** testing if installed package can be loaded from temporary location
** testing if installed package can be loaded from final location
** testing if installed package keeps a record of temporary installation path
* DONE (Uniquorn)

Tests output

Uniquorn.Rcheck/tests/testthat.Rout


R version 4.2.2 (2022-10-31 ucrt) -- "Innocent and Trusting"
Copyright (C) 2022 The R Foundation for Statistical Computing
Platform: x86_64-w64-mingw32/x64 (64-bit)

R is free software and comes with ABSOLUTELY NO WARRANTY.
You are welcome to redistribute it under certain conditions.
Type 'license()' or 'licence()' for distribution details.

R is a collaborative project with many contributors.
Type 'contributors()' for more information and
'citation()' on how to cite R or R packages in publications.

Type 'demo()' for some demos, 'help()' for on-line help, or
'help.start()' for an HTML browser interface to help.
Type 'q()' to quit R.

> Sys.setenv(R_TESTS="")
> library("testthat")
> library("Uniquorn")
> 
> test_check("Uniquorn")
[ FAIL 0 | WARN 0 | SKIP 0 | PASS 21 ]
> 
> proc.time()
   user  system elapsed 
  21.54    0.96   22.53 

Example timings

Uniquorn.Rcheck/Uniquorn-Ex.timings

nameusersystemelapsed
add_custom_vcf_to_database6.360.276.66
identify_vcf_file0.530.010.56
initiate_canonical_databases000
read_library_names000
remove_ccls_from_database0.610.000.61
remove_library_from_database0.020.000.02
show_contained_ccls0.000.020.01
show_contained_variants_for_ccl0.090.000.10
show_contained_variants_in_library0.050.000.04
show_which_ccls_contain_variant0.080.000.08