Back to Multiple platform build/check report for BioC 3.14
ABCDEFGHIJKLMNOPQRST[U]VWXYZ

This page was generated on 2022-01-21 13:08:42 -0500 (Fri, 21 Jan 2022).

HostnameOSArch (*)R versionInstalled pkgs
nebbiolo2Linux (Ubuntu 20.04.4 LTS)x86_644.1.2 (2021-11-01) -- "Bird Hippie" 4329
tokay2Windows Server 2012 R2 Standardx644.1.2 (2021-11-01) -- "Bird Hippie" 4079
machv2macOS 10.14.6 Mojavex86_644.1.2 (2021-11-01) -- "Bird Hippie" 4140
Click on any hostname to see more info about the system (e.g. compilers)      (*) as reported by 'uname -p', except on Windows and Mac OS X

CHECK results for Uniquorn on machv2


To the developers/maintainers of the Uniquorn package:
- Please allow up to 24 hours (and sometimes 48 hours) for your latest push to git@git.bioconductor.org:packages/Uniquorn.git to
reflect on this report. See How and When does the builder pull? When will my changes propagate? here for more information.
- Make sure to use the following settings in order to reproduce any error or warning you see on this page.

raw results

Package 2031/2083HostnameOS / ArchINSTALLBUILDCHECKBUILD BIN
Uniquorn 2.14.0  (landing page)
'Raik Otto'
Snapshot Date: 2022-01-20 01:55:04 -0500 (Thu, 20 Jan 2022)
git_url: https://git.bioconductor.org/packages/Uniquorn
git_branch: RELEASE_3_14
git_last_commit: 8cd3d60
git_last_commit_date: 2021-10-26 12:26:01 -0500 (Tue, 26 Oct 2021)
nebbiolo2Linux (Ubuntu 20.04.4 LTS) / x86_64  OK    OK    OK  UNNEEDED, same version is already published
tokay2Windows Server 2012 R2 Standard / x64  OK    OK    OK    OK  UNNEEDED, same version is already published
machv2macOS 10.14.6 Mojave / x86_64  OK    OK    OK    OK  UNNEEDED, same version is already published

Summary

Package: Uniquorn
Version: 2.14.0
Command: /Library/Frameworks/R.framework/Resources/bin/R CMD check --install=check:Uniquorn.install-out.txt --library=/Library/Frameworks/R.framework/Resources/library --no-vignettes --timings Uniquorn_2.14.0.tar.gz
StartedAt: 2022-01-20 19:21:49 -0500 (Thu, 20 Jan 2022)
EndedAt: 2022-01-20 19:28:23 -0500 (Thu, 20 Jan 2022)
EllapsedTime: 393.3 seconds
RetCode: 0
Status:   OK  
CheckDir: Uniquorn.Rcheck
Warnings: 0

Command output

##############################################################################
##############################################################################
###
### Running command:
###
###   /Library/Frameworks/R.framework/Resources/bin/R CMD check --install=check:Uniquorn.install-out.txt --library=/Library/Frameworks/R.framework/Resources/library --no-vignettes --timings Uniquorn_2.14.0.tar.gz
###
##############################################################################
##############################################################################


* using log directory ‘/Users/biocbuild/bbs-3.14-bioc/meat/Uniquorn.Rcheck’
* using R version 4.1.2 (2021-11-01)
* using platform: x86_64-apple-darwin17.0 (64-bit)
* using session charset: UTF-8
* using option ‘--no-vignettes’
* checking for file ‘Uniquorn/DESCRIPTION’ ... OK
* checking extension type ... Package
* this is package ‘Uniquorn’ version ‘2.14.0’
* package encoding: UTF-8
* checking package namespace information ... OK
* checking package dependencies ... OK
* checking if this is a source package ... OK
* checking if there is a namespace ... OK
* checking for hidden files and directories ... OK
* checking for portable file names ... OK
* checking for sufficient/correct file permissions ... OK
* checking whether package ‘Uniquorn’ can be installed ... OK
* checking installed package size ... NOTE
  installed size is  7.6Mb
  sub-directories of 1Mb or more:
    extdata   6.5Mb
* checking package directory ... OK
* checking ‘build’ directory ... OK
* checking DESCRIPTION meta-information ... NOTE
Malformed Description field: should contain one or more complete sentences.
* checking top-level files ... OK
* checking for left-over files ... OK
* checking index information ... OK
* checking package subdirectories ... OK
* checking R files for non-ASCII characters ... OK
* checking R files for syntax errors ... OK
* checking whether the package can be loaded ... OK
* checking whether the package can be loaded with stated dependencies ... OK
* checking whether the package can be unloaded cleanly ... OK
* checking whether the namespace can be loaded with stated dependencies ... OK
* checking whether the namespace can be unloaded cleanly ... OK
* checking dependencies in R code ... OK
* checking S3 generic/method consistency ... OK
* checking replacement functions ... OK
* checking foreign function calls ... OK
* checking R code for possible problems ... NOTE
add_p_q_values_statistics: no visible binding for '<<-' assignment to
  ‘sig_vec’
add_p_q_values_statistics: no visible binding for global variable
  ‘sig_vec’
create_bed_file: no visible binding for global variable ‘res_table’
create_bed_file: no visible binding for global variable ‘sim_list’
identify_vcf_file: no visible binding for global variable
  ‘vcf_fingerprint’
identify_vcf_file: no visible binding for global variable
  ‘output_file_xls’
init_and_load_identification: no visible global function definition for
  ‘tail’
parse_ccle_genotype_data: no visible global function definition for
  ‘fread’
parse_ccle_genotype_data: no visible binding for global variable
  ‘Tumor_Sample_Barcode’
parse_ccle_genotype_data: no visible global function definition for
  ‘data.table’
parse_ccle_genotype_data: no visible binding for global variable ‘.SD’
parse_ccle_genotype_data: no visible binding for global variable
  ‘Index’
parse_cosmic_genotype_data: no visible global function definition for
  ‘fread’
parse_cosmic_genotype_data: no visible binding for global variable
  ‘position’
parse_cosmic_genotype_data: no visible global function definition for
  ‘data.table’
parse_cosmic_genotype_data: no visible binding for global variable
  ‘.SD’
parse_cosmic_genotype_data: no visible binding for global variable
  ‘Index’
show_contained_ccls: no visible binding for '<<-' assignment to
  ‘ccls_all’
show_contained_ccls: no visible binding for global variable ‘ccls_all’
write_w0_and_split_w0_into_lower_weights: no visible binding for '<<-'
  assignment to ‘g_mat_exclude’
write_w0_and_split_w0_into_lower_weights: no visible binding for global
  variable ‘g_mat_exclude’
Undefined global functions or variables:
  .SD Index Tumor_Sample_Barcode ccls_all data.table fread
  g_mat_exclude output_file_xls position res_table sig_vec sim_list
  tail vcf_fingerprint
Consider adding
  importFrom("utils", "tail")
to your NAMESPACE file.
* checking Rd files ... OK
* checking Rd metadata ... OK
* checking Rd cross-references ... OK
* checking for missing documentation entries ... OK
* checking for code/documentation mismatches ... OK
* checking Rd \usage sections ... OK
* checking Rd contents ... OK
* checking for unstated dependencies in examples ... OK
* checking files in ‘vignettes’ ... OK
* checking examples ... OK
Examples with CPU (user + system) or elapsed time > 5s
                            user system elapsed
add_custom_vcf_to_database 4.884  0.201   5.327
* checking for unstated dependencies in ‘tests’ ... OK
* checking tests ...
  Running ‘testthat.R’
 OK
* checking for unstated dependencies in vignettes ... OK
* checking package vignettes in ‘inst/doc’ ... OK
* checking running R code from vignettes ... SKIPPED
* checking re-building of vignette outputs ... SKIPPED
* checking PDF version of manual ... OK
* DONE

Status: 3 NOTEs
See
  ‘/Users/biocbuild/bbs-3.14-bioc/meat/Uniquorn.Rcheck/00check.log’
for details.



Installation output

Uniquorn.Rcheck/00install.out

##############################################################################
##############################################################################
###
### Running command:
###
###   /Library/Frameworks/R.framework/Resources/bin/R CMD INSTALL Uniquorn
###
##############################################################################
##############################################################################


* installing to library ‘/Library/Frameworks/R.framework/Versions/4.1/Resources/library’
* installing *source* package ‘Uniquorn’ ...
** using staged installation
** R
** inst
** byte-compile and prepare package for lazy loading
** help
*** installing help indices
** building package indices
** installing vignettes
** testing if installed package can be loaded from temporary location
** testing if installed package can be loaded from final location
** testing if installed package keeps a record of temporary installation path
* DONE (Uniquorn)

Tests output

Uniquorn.Rcheck/tests/testthat.Rout


R version 4.1.2 (2021-11-01) -- "Bird Hippie"
Copyright (C) 2021 The R Foundation for Statistical Computing
Platform: x86_64-apple-darwin17.0 (64-bit)

R is free software and comes with ABSOLUTELY NO WARRANTY.
You are welcome to redistribute it under certain conditions.
Type 'license()' or 'licence()' for distribution details.

R is a collaborative project with many contributors.
Type 'contributors()' for more information and
'citation()' on how to cite R or R packages in publications.

Type 'demo()' for some demos, 'help()' for on-line help, or
'help.start()' for an HTML browser interface to help.
Type 'q()' to quit R.

> Sys.setenv(R_TESTS="")
> library("testthat")
> library("Uniquorn")
> 
> test_check("Uniquorn")
[ FAIL 0 | WARN 0 | SKIP 0 | PASS 21 ]
> 
> proc.time()
   user  system elapsed 
 27.125   1.091  28.270 

Example timings

Uniquorn.Rcheck/Uniquorn-Ex.timings

nameusersystemelapsed
add_custom_vcf_to_database4.8840.2015.327
identify_vcf_file1.0540.0151.073
initiate_canonical_databases0.0010.0000.002
read_library_names0.0010.0000.001
remove_ccls_from_database0.9630.0060.970
remove_library_from_database0.0020.0000.003
show_contained_ccls0.0120.0050.017
show_contained_variants_for_ccl0.1390.0050.144
show_contained_variants_in_library0.0760.0030.078
show_which_ccls_contain_variant0.1460.0070.153