Index of /checkResults/release/bioc-LATEST/Ularcirc/raw-results/nebbiolo2

[ICO]NameLast modifiedSizeDescription

[DIR]Parent Directory  -  
[TXT]buildsrc-out.txt23-Feb-2024 01:36 850  
[   ]buildsrc-summary.dcf23-Feb-2024 01:36 420  
[TXT]checksrc-out.txt23-Feb-2024 01:36 5.1K 
[   ]checksrc-summary.dcf23-Feb-2024 01:36 423  
[TXT]install-out.txt23-Feb-2024 01:36 955  
[   ]install-summary.dcf23-Feb-2024 01:36 261