Name | Last modified | Size | Description | |
---|---|---|---|---|
Parent Directory | - | |||
install-summary.dcf | 26-Jun-2024 06:40 | 261 | ||
buildsrc-summary.dcf | 26-Jun-2024 06:40 | 420 | ||
checksrc-summary.dcf | 26-Jun-2024 06:40 | 423 | ||
buildsrc-out.txt | 26-Jun-2024 06:40 | 850 | ||
install-out.txt | 26-Jun-2024 06:40 | 955 | ||
checksrc-out.txt | 26-Jun-2024 06:40 | 5.1K | ||