Index of /checkResults/release/bioc-LATEST/Ularcirc/raw-results/lconway

[ICO]NameLast modifiedSizeDescription

[DIR]Parent Directory  -  
[TXT]buildbin-out.txt23-Feb-2024 01:38 1.2K 
[   ]buildbin-summary.dcf23-Feb-2024 01:38 536  
[TXT]buildsrc-out.txt23-Feb-2024 01:38 860  
[   ]buildsrc-summary.dcf23-Feb-2024 01:38 430  
[TXT]checksrc-out.txt23-Feb-2024 01:38 5.1K 
[   ]checksrc-summary.dcf23-Feb-2024 01:38 454  
[TXT]install-out.txt23-Feb-2024 01:38 1.0K 
[   ]install-summary.dcf23-Feb-2024 01:38 271