Index of /checkResults/release/bioc-LATEST/Ularcirc/raw-results/kunpeng2

[ICO]NameLast modifiedSizeDescription

[DIR]Parent Directory  -  
[TXT]buildsrc-out.txt03-Nov-2023 00:41 844  
[   ]buildsrc-summary.dcf03-Nov-2023 00:41 414  
[TXT]checksrc-out.txt03-Nov-2023 00:41 5.1K 
[   ]checksrc-summary.dcf03-Nov-2023 00:41 427  
[TXT]install-out.txt03-Nov-2023 00:41 943  
[   ]install-summary.dcf03-Nov-2023 00:41 255