Name | Last modified | Size | Description | |
---|---|---|---|---|
Parent Directory | - | |||
buildsrc-out.txt | 17-Jul-2024 06:39 | 864 | ||
buildsrc-summary.dcf | 17-Jul-2024 06:39 | 412 | ||
checksrc-out.txt | 17-Jul-2024 06:39 | 3.4K | ||
checksrc-summary.dcf | 17-Jul-2024 06:39 | 407 | ||
install-out.txt | 17-Jul-2024 06:39 | 957 | ||
install-summary.dcf | 17-Jul-2024 06:39 | 255 | ||