Name | Last modified | Size | Description | |
---|---|---|---|---|
Parent Directory | - | |||
buildbin-out.txt | 12-Jun-2024 03:43 | 1.1K | ||
buildbin-summary.dcf | 12-Jun-2024 03:43 | 520 | ||
buildsrc-out.txt | 12-Jun-2024 03:43 | 874 | ||
buildsrc-summary.dcf | 12-Jun-2024 03:43 | 422 | ||
checksrc-out.txt | 12-Jun-2024 03:43 | 3.5K | ||
checksrc-summary.dcf | 12-Jun-2024 03:43 | 437 | ||
install-out.txt | 12-Jun-2024 03:43 | 1.0K | ||
install-summary.dcf | 12-Jun-2024 03:43 | 265 | ||