Back to Multiple platform build/check report for BioC 3.18:   simplified   long
ABCDEFGHIJKLMNOPQRST[U]VWXYZ

This page was generated on 2024-02-26 14:14:02 -0500 (Mon, 26 Feb 2024).

HostnameOSArch (*)R versionInstalled pkgs
nebbiolo2Linux (Ubuntu 22.04.3 LTS)x86_644.3.2 Patched (2023-11-13 r85521) -- "Eye Holes" 4691
palomino4Windows Server 2022 Datacenterx644.3.2 (2023-10-31 ucrt) -- "Eye Holes" 4444
lconwaymacOS 12.7.1 Montereyx86_644.3.2 Patched (2023-11-01 r85457) -- "Eye Holes" 4465
Click on any hostname to see more info about the system (e.g. compilers)      (*) as reported by 'uname -p', except on Windows and Mac OS X

Package 2203/2266HostnameOS / ArchINSTALLBUILDCHECKBUILD BIN
UMI4Cats 1.12.0  (landing page)
Mireia Ramos-Rodriguez
Snapshot Date: 2024-02-25 14:05:04 -0500 (Sun, 25 Feb 2024)
git_url: https://git.bioconductor.org/packages/UMI4Cats
git_branch: RELEASE_3_18
git_last_commit: df941ac
git_last_commit_date: 2023-10-24 11:24:33 -0500 (Tue, 24 Oct 2023)
nebbiolo2Linux (Ubuntu 22.04.3 LTS) / x86_64  OK    OK    ERROR  
palomino4Windows Server 2022 Datacenter / x64  OK    OK    ERROR    OK  
lconwaymacOS 12.7.1 Monterey / x86_64  OK    OK    ERROR    OK  
kjohnson1macOS 13.6.1 Ventura / arm64see weekly results here

BUILD BIN results for UMI4Cats on palomino4


To the developers/maintainers of the UMI4Cats package:
- Allow up to 24 hours (and sometimes 48 hours) for your latest push to git@git.bioconductor.org:packages/UMI4Cats.git to reflect on this report. See Troubleshooting Build Report for more information.
- Use the following Renviron settings to reproduce errors and warnings.
- If 'R CMD check' started to fail recently on the Linux builder(s) over a missing dependency, add the missing dependency to 'Suggests:' in your DESCRIPTION file. See Renviron.bioc for more information.

raw results


Summary

Package: UMI4Cats
Version: 1.12.0
Command: rm -rf UMI4Cats.buildbin-libdir && mkdir UMI4Cats.buildbin-libdir && F:\biocbuild\bbs-3.18-bioc\R\bin\R.exe CMD INSTALL --build --library=UMI4Cats.buildbin-libdir UMI4Cats_1.12.0.tar.gz
StartedAt: 2024-02-26 09:19:53 -0500 (Mon, 26 Feb 2024)
EndedAt: 2024-02-26 09:20:45 -0500 (Mon, 26 Feb 2024)
EllapsedTime: 52.0 seconds
RetCode: 0
Status:   OK  
PackageFile: UMI4Cats_1.12.0.zip
PackageFileSize: 2.915 MiB

Command output

##############################################################################
##############################################################################
###
### Running command:
###
###   rm -rf UMI4Cats.buildbin-libdir && mkdir UMI4Cats.buildbin-libdir && F:\biocbuild\bbs-3.18-bioc\R\bin\R.exe CMD INSTALL --build --library=UMI4Cats.buildbin-libdir UMI4Cats_1.12.0.tar.gz
###
##############################################################################
##############################################################################


* installing *source* package 'UMI4Cats' ...
** using staged installation
** R
** data
** inst
** byte-compile and prepare package for lazy loading
** help
*** installing help indices
*** copying figures
** building package indices
** installing vignettes
** testing if installed package can be loaded from temporary location
** testing if installed package can be loaded from final location
** testing if installed package keeps a record of temporary installation path
* MD5 sums
packaged installation of 'UMI4Cats' as UMI4Cats_1.12.0.zip
* DONE (UMI4Cats)