Index of /checkResults/release/bioc-LATEST/TypeInfo/raw-results/palomino7
Name
Last modified
Size
Description
Parent Directory
-
install-summary.dcf
17-Jul-2024 06:40
270
install-out.txt
17-Jul-2024 06:40
956
buildsrc-summary.dcf
17-Jul-2024 06:40
371
buildsrc-out.txt
17-Jul-2024 06:40
1.9K