Index of /checkResults/release/bioc-LATEST/TypeInfo/raw-results/palomino3
Name
Last modified
Size
Description
Parent Directory
-
buildsrc-out.txt
29-Jun-2024 06:42
2.0K
buildsrc-summary.dcf
29-Jun-2024 06:42
371
install-out.txt
29-Jun-2024 06:42
956
install-summary.dcf
29-Jun-2024 06:42
270