Index of /checkResults/release/bioc-LATEST/TypeInfo/raw-results/merida1
Name
Last modified
Size
Description
Parent Directory
-
install-summary.dcf
17-Jul-2024 06:41
271
install-out.txt
17-Jul-2024 06:41
1.0K
buildsrc-summary.dcf
17-Jul-2024 06:41
345
buildsrc-out.txt
17-Jul-2024 06:41
1.2K