Back to Multiple platform build/check report for BioC 3.18:   simplified   long
ABCDEFGHIJKLMNOPQRS[T]UVWXYZ

This page was generated on 2024-03-29 11:37:26 -0400 (Fri, 29 Mar 2024).

HostnameOSArch (*)R versionInstalled pkgs
nebbiolo2Linux (Ubuntu 22.04.3 LTS)x86_644.3.3 (2024-02-29) -- "Angel Food Cake" 4669
palomino4Windows Server 2022 Datacenterx644.3.3 (2024-02-29 ucrt) -- "Angel Food Cake" 4404
merida1macOS 12.7.1 Montereyx86_644.3.3 (2024-02-29) -- "Angel Food Cake" 4427
Click on any hostname to see more info about the system (e.g. compilers)      (*) as reported by 'uname -p', except on Windows and Mac OS X

Package 2192/2266HostnameOS / ArchINSTALLBUILDCHECKBUILD BIN
TurboNorm 1.50.0  (landing page)
Maarten van Iterson
Snapshot Date: 2024-03-27 14:05:05 -0400 (Wed, 27 Mar 2024)
git_url: https://git.bioconductor.org/packages/TurboNorm
git_branch: RELEASE_3_18
git_last_commit: 925fb78
git_last_commit_date: 2023-10-24 09:45:26 -0400 (Tue, 24 Oct 2023)
nebbiolo2Linux (Ubuntu 22.04.3 LTS) / x86_64  OK    OK    OK  UNNEEDED, same version is already published
palomino4Windows Server 2022 Datacenter / x64  OK    OK    OK    OK  UNNEEDED, same version is already published
merida1macOS 12.7.1 Monterey / x86_64  OK    OK    OK    OK  UNNEEDED, same version is already published
kjohnson1macOS 13.6.1 Ventura / arm64see weekly results here

BUILD BIN results for TurboNorm on palomino4


To the developers/maintainers of the TurboNorm package:
- Allow up to 24 hours (and sometimes 48 hours) for your latest push to git@git.bioconductor.org:packages/TurboNorm.git to reflect on this report. See Troubleshooting Build Report for more information.
- Use the following Renviron settings to reproduce errors and warnings.
- If 'R CMD check' started to fail recently on the Linux builder(s) over a missing dependency, add the missing dependency to 'Suggests:' in your DESCRIPTION file. See Renviron.bioc for more information.

raw results


Summary

Package: TurboNorm
Version: 1.50.0
Command: rm -rf TurboNorm.buildbin-libdir && mkdir TurboNorm.buildbin-libdir && F:\biocbuild\bbs-3.18-bioc\R\bin\R.exe CMD INSTALL --build --library=TurboNorm.buildbin-libdir TurboNorm_1.50.0.tar.gz
StartedAt: 2024-03-28 07:53:02 -0400 (Thu, 28 Mar 2024)
EndedAt: 2024-03-28 07:53:11 -0400 (Thu, 28 Mar 2024)
EllapsedTime: 8.5 seconds
RetCode: 0
Status:   OK  
PackageFile: TurboNorm_1.50.0.zip
PackageFileSize: 2.057 MiB

Command output

##############################################################################
##############################################################################
###
### Running command:
###
###   rm -rf TurboNorm.buildbin-libdir && mkdir TurboNorm.buildbin-libdir && F:\biocbuild\bbs-3.18-bioc\R\bin\R.exe CMD INSTALL --build --library=TurboNorm.buildbin-libdir TurboNorm_1.50.0.tar.gz
###
##############################################################################
##############################################################################


* installing *source* package 'TurboNorm' ...
** using staged installation
** libs
using C compiler: 'gcc.exe (GCC) 12.3.0'
gcc  -I"F:/biocbuild/bbs-3.18-bioc/R/include" -DNDEBUG     -I"C:/rtools43/x86_64-w64-mingw32.static.posix/include"     -O2 -Wall  -mfpmath=sse -msse2 -mstackrealign  -c Rinit.c -o Rinit.o
Rinit.c:8:40: warning: missing braces around initializer [-Wmissing-braces]
    8 | static const R_CMethodDef cMethods[] = {
      |                                        ^
gcc  -I"F:/biocbuild/bbs-3.18-bioc/R/include" -DNDEBUG     -I"C:/rtools43/x86_64-w64-mingw32.static.posix/include"     -O2 -Wall  -mfpmath=sse -msse2 -mstackrealign  -c binners.c -o binners.o
gcc -shared -s -static-libgcc -o TurboNorm.dll tmp.def Rinit.o binners.o -LC:/rtools43/x86_64-w64-mingw32.static.posix/lib/x64 -LC:/rtools43/x86_64-w64-mingw32.static.posix/lib -LF:/biocbuild/bbs-3.18-bioc/R/bin/x64 -lR
installing to F:/biocbuild/bbs-3.18-bioc/meat/TurboNorm.buildbin-libdir/00LOCK-TurboNorm/00new/TurboNorm/libs/x64
** R
** data
** inst
** byte-compile and prepare package for lazy loading
** help
*** installing help indices
** building package indices
** installing vignettes
** testing if installed package can be loaded from temporary location
** testing if installed package can be loaded from final location
** testing if installed package keeps a record of temporary installation path
* MD5 sums
packaged installation of 'TurboNorm' as TurboNorm_1.50.0.zip
* DONE (TurboNorm)