Index of /checkResults/release/bioc-LATEST/TransView/raw-results/nebbiolo2

[ICO]NameLast modifiedSizeDescription

[DIR]Parent Directory  -  
[TXT]buildsrc-out.txt03-Mar-2024 01:36 844  
[   ]buildsrc-summary.dcf03-Mar-2024 01:36 423  
[TXT]checksrc-out.txt03-Mar-2024 01:36 8.1K 
[   ]checksrc-summary.dcf03-Mar-2024 01:36 428  
[TXT]install-out.txt03-Mar-2024 01:36 3.9K 
[   ]install-summary.dcf03-Mar-2024 01:36 263