Index of /checkResults/release/bioc-LATEST/TransView/raw-results/lconway

[ICO]NameLast modifiedSizeDescription

[DIR]Parent Directory  -  
[TXT]buildbin-out.txt23-Feb-2024 01:38 7.3K 
[   ]buildbin-summary.dcf23-Feb-2024 01:38 541  
[TXT]buildsrc-out.txt23-Feb-2024 01:38 854  
[   ]buildsrc-summary.dcf23-Feb-2024 01:38 433  
[TXT]checksrc-out.txt23-Feb-2024 01:38 8.0K 
[   ]checksrc-summary.dcf23-Feb-2024 01:38 458  
[TXT]install-out.txt23-Feb-2024 01:38 4.7K 
[   ]install-summary.dcf23-Feb-2024 01:38 273