Name | Last modified | Size | Description | |
---|---|---|---|---|
Parent Directory | - | |||
checksrc-out.txt | 22-May-2024 00:38 | 3.9K | ||
checksrc-summary.dcf | 22-May-2024 00:38 | 446 | ||
buildbin-out.txt | 22-May-2024 00:38 | 1.2K | ||
buildbin-summary.dcf | 22-May-2024 00:38 | 533 | ||
install-out.txt | 23-May-2024 00:37 | 728 | ||
install-summary.dcf | 23-May-2024 00:37 | 272 | ||
buildsrc-out.txt | 23-May-2024 00:37 | 925 | ||
buildsrc-summary.dcf | 23-May-2024 00:37 | 343 | ||