Name | Last modified | Size | Description | |
---|---|---|---|---|
Parent Directory | - | |||
install-summary.dcf | 19-May-2024 00:38 | 271 | ||
buildsrc-summary.dcf | 19-May-2024 00:38 | 431 | ||
checksrc-summary.dcf | 19-May-2024 00:38 | 454 | ||
buildbin-summary.dcf | 19-May-2024 00:38 | 536 | ||
buildsrc-out.txt | 19-May-2024 00:38 | 964 | ||
install-out.txt | 19-May-2024 00:38 | 6.8K | ||
buildbin-out.txt | 19-May-2024 00:38 | 8.7K | ||
checksrc-out.txt | 19-May-2024 00:38 | 24K | ||