Back to Multiple platform build/check report for BioC 3.16:   simplified   long
ABCDEFGHIJKLMNOPQRS[T]UVWXYZ

This page was generated on 2023-03-24 11:05:46 -0400 (Fri, 24 Mar 2023).

HostnameOSArch (*)R versionInstalled pkgs
nebbiolo2Linux (Ubuntu 20.04.5 LTS)x86_644.2.3 (2023-03-15) -- "Shortstop Beagle" 4286
palomino4Windows Server 2022 Datacenterx644.2.3 (2023-03-15 ucrt) -- "Shortstop Beagle" 4276
lconwaymacOS 12.5.1 Montereyx86_644.2.3 (2023-03-15) -- "Shortstop Beagle" 4303
Click on any hostname to see more info about the system (e.g. compilers)      (*) as reported by 'uname -p', except on Windows and Mac OS X

CHECK results for TimiRGeN on nebbiolo2


To the developers/maintainers of the TimiRGeN package:
- Please allow up to 24 hours (and sometimes 48 hours) for your latest push to git@git.bioconductor.org:packages/TimiRGeN.git to
reflect on this report. See How and When does the builder pull? When will my changes propagate? for more information.
- Make sure to use the following settings in order to reproduce any error or warning you see on this page.

raw results

Package 2053/2183HostnameOS / ArchINSTALLBUILDCHECKBUILD BIN
TimiRGeN 1.8.0  (landing page)
Krutik Patel
Snapshot Date: 2023-03-22 14:00:04 -0400 (Wed, 22 Mar 2023)
git_url: https://git.bioconductor.org/packages/TimiRGeN
git_branch: RELEASE_3_16
git_last_commit: 6150789
git_last_commit_date: 2022-11-01 11:22:47 -0400 (Tue, 01 Nov 2022)
nebbiolo2Linux (Ubuntu 20.04.5 LTS) / x86_64  OK    OK    OK  UNNEEDED, same version is already published
palomino4Windows Server 2022 Datacenter / x64  OK    OK    OK    OK  UNNEEDED, same version is already published
lconwaymacOS 12.5.1 Monterey / x86_64  OK    OK    OK    OK  UNNEEDED, same version is already published

Summary

Package: TimiRGeN
Version: 1.8.0
Command: /home/biocbuild/bbs-3.16-bioc/R/bin/R CMD check --install=check:TimiRGeN.install-out.txt --library=/home/biocbuild/bbs-3.16-bioc/R/site-library --timings TimiRGeN_1.8.0.tar.gz
StartedAt: 2023-03-23 00:48:57 -0400 (Thu, 23 Mar 2023)
EndedAt: 2023-03-23 00:56:07 -0400 (Thu, 23 Mar 2023)
EllapsedTime: 429.7 seconds
RetCode: 0
Status:   OK  
CheckDir: TimiRGeN.Rcheck
Warnings: 0

Command output

##############################################################################
##############################################################################
###
### Running command:
###
###   /home/biocbuild/bbs-3.16-bioc/R/bin/R CMD check --install=check:TimiRGeN.install-out.txt --library=/home/biocbuild/bbs-3.16-bioc/R/site-library --timings TimiRGeN_1.8.0.tar.gz
###
##############################################################################
##############################################################################


* using log directory ‘/home/biocbuild/bbs-3.16-bioc/meat/TimiRGeN.Rcheck’
* using R version 4.2.3 (2023-03-15)
* using platform: x86_64-pc-linux-gnu (64-bit)
* using session charset: UTF-8
* checking for file ‘TimiRGeN/DESCRIPTION’ ... OK
* checking extension type ... Package
* this is package ‘TimiRGeN’ version ‘1.8.0’
* package encoding: UTF-8
* checking package namespace information ... OK
* checking package dependencies ... OK
* checking if this is a source package ... OK
* checking if there is a namespace ... OK
* checking for hidden files and directories ... OK
* checking for portable file names ... OK
* checking for sufficient/correct file permissions ... OK
* checking whether package ‘TimiRGeN’ can be installed ... OK
* checking installed package size ... OK
* checking package directory ... OK
* checking ‘build’ directory ... OK
* checking DESCRIPTION meta-information ... OK
* checking top-level files ... OK
* checking for left-over files ... OK
* checking index information ... OK
* checking package subdirectories ... OK
* checking R files for non-ASCII characters ... OK
* checking R files for syntax errors ... OK
* checking whether the package can be loaded ... OK
* checking whether the package can be loaded with stated dependencies ... OK
* checking whether the package can be unloaded cleanly ... OK
* checking whether the namespace can be loaded with stated dependencies ... OK
* checking whether the namespace can be unloaded cleanly ... OK
* checking loading without being on the library search path ... OK
* checking dependencies in R code ... OK
* checking S3 generic/method consistency ... OK
* checking replacement functions ... OK
* checking foreign function calls ... OK
* checking R code for possible problems ... OK
* checking Rd files ... OK
* checking Rd metadata ... OK
* checking Rd cross-references ... OK
* checking for missing documentation entries ... OK
* checking for code/documentation mismatches ... OK
* checking Rd \usage sections ... OK
* checking Rd contents ... OK
* checking for unstated dependencies in examples ... OK
* checking contents of ‘data’ directory ... OK
* checking data for non-ASCII characters ... NOTE
  Note: found 3 marked UTF-8 strings
* checking LazyData ... OK
* checking data for ASCII and uncompressed saves ... OK
* checking files in ‘vignettes’ ... OK
* checking examples ... OK
* checking for unstated dependencies in ‘tests’ ... OK
* checking tests ...
  Running ‘testthat.R’
 OK
* checking for unstated dependencies in vignettes ... OK
* checking package vignettes in ‘inst/doc’ ... OK
* checking running R code from vignettes ...
  ‘TimiRGeN_tutorial.Rmd’ using ‘UTF-8’... OK
 NONE
* checking re-building of vignette outputs ... OK
* checking PDF version of manual ... OK
* DONE

Status: 1 NOTE
See
  ‘/home/biocbuild/bbs-3.16-bioc/meat/TimiRGeN.Rcheck/00check.log’
for details.



Installation output

TimiRGeN.Rcheck/00install.out

##############################################################################
##############################################################################
###
### Running command:
###
###   /home/biocbuild/bbs-3.16-bioc/R/bin/R CMD INSTALL TimiRGeN
###
##############################################################################
##############################################################################


* installing to library ‘/home/biocbuild/bbs-3.16-bioc/R/site-library’
* installing *source* package ‘TimiRGeN’ ...
** using staged installation
** R
** data
*** moving datasets to lazyload DB
** inst
** byte-compile and prepare package for lazy loading
** help
*** installing help indices
** building package indices
** installing vignettes
** testing if installed package can be loaded from temporary location
** testing if installed package can be loaded from final location
** testing if installed package keeps a record of temporary installation path
* DONE (TimiRGeN)

Tests output

TimiRGeN.Rcheck/tests/testthat.Rout


R version 4.2.3 (2023-03-15) -- "Shortstop Beagle"
Copyright (C) 2023 The R Foundation for Statistical Computing
Platform: x86_64-pc-linux-gnu (64-bit)

R is free software and comes with ABSOLUTELY NO WARRANTY.
You are welcome to redistribute it under certain conditions.
Type 'license()' or 'licence()' for distribution details.

R is a collaborative project with many contributors.
Type 'contributors()' for more information and
'citation()' on how to cite R or R packages in publications.

Type 'demo()' for some demos, 'help()' for on-line help, or
'help.start()' for an HTML browser interface to help.
Type 'q()' to quit R.

> #unit test check
> library(testthat)
> library(TimiRGeN)
Loading required package: Mfuzz
Loading required package: Biobase
Loading required package: BiocGenerics

Attaching package: 'BiocGenerics'

The following objects are masked from 'package:stats':

    IQR, mad, sd, var, xtabs

The following objects are masked from 'package:base':

    Filter, Find, Map, Position, Reduce, anyDuplicated, aperm, append,
    as.data.frame, basename, cbind, colnames, dirname, do.call,
    duplicated, eval, evalq, get, grep, grepl, intersect, is.unsorted,
    lapply, mapply, match, mget, order, paste, pmax, pmax.int, pmin,
    pmin.int, rank, rbind, rownames, sapply, setdiff, sort, table,
    tapply, union, unique, unsplit, which.max, which.min

Welcome to Bioconductor

    Vignettes contain introductory material; view with
    'browseVignettes()'. To cite Bioconductor, see
    'citation("Biobase")', and for packages 'citation("pkgname")'.

Loading required package: e1071

Attaching package: 'DynDoc'

The following object is masked from 'package:BiocGenerics':

    path

Loading required package: MultiAssayExperiment
Loading required package: SummarizedExperiment
Loading required package: MatrixGenerics
Loading required package: matrixStats

Attaching package: 'matrixStats'

The following objects are masked from 'package:Biobase':

    anyMissing, rowMedians


Attaching package: 'MatrixGenerics'

The following objects are masked from 'package:matrixStats':

    colAlls, colAnyNAs, colAnys, colAvgsPerRowSet, colCollapse,
    colCounts, colCummaxs, colCummins, colCumprods, colCumsums,
    colDiffs, colIQRDiffs, colIQRs, colLogSumExps, colMadDiffs,
    colMads, colMaxs, colMeans2, colMedians, colMins, colOrderStats,
    colProds, colQuantiles, colRanges, colRanks, colSdDiffs, colSds,
    colSums2, colTabulates, colVarDiffs, colVars, colWeightedMads,
    colWeightedMeans, colWeightedMedians, colWeightedSds,
    colWeightedVars, rowAlls, rowAnyNAs, rowAnys, rowAvgsPerColSet,
    rowCollapse, rowCounts, rowCummaxs, rowCummins, rowCumprods,
    rowCumsums, rowDiffs, rowIQRDiffs, rowIQRs, rowLogSumExps,
    rowMadDiffs, rowMads, rowMaxs, rowMeans2, rowMedians, rowMins,
    rowOrderStats, rowProds, rowQuantiles, rowRanges, rowRanks,
    rowSdDiffs, rowSds, rowSums2, rowTabulates, rowVarDiffs, rowVars,
    rowWeightedMads, rowWeightedMeans, rowWeightedMedians,
    rowWeightedSds, rowWeightedVars

The following object is masked from 'package:Biobase':

    rowMedians

Loading required package: GenomicRanges
Loading required package: stats4
Loading required package: S4Vectors

Attaching package: 'S4Vectors'

The following objects are masked from 'package:base':

    I, expand.grid, unname

Loading required package: IRanges
Loading required package: GenomeInfoDb

> test_check(package = "TimiRGeN")
[ FAIL 0 | WARN 49 | SKIP 0 | PASS 124 ]

[ FAIL 0 | WARN 49 | SKIP 0 | PASS 124 ]
> 
> proc.time()
   user  system elapsed 
 19.212   3.819  22.053 

Example timings

TimiRGeN.Rcheck/TimiRGeN-Ex.timings

nameusersystemelapsed
UUO_data0.0040.0010.004
addIds2.5410.4474.620
addPrefix0.4510.0950.521
clusterCheck0.6520.1831.598
clusterList3.3500.6864.545
combineGenes0.2480.0790.313
createClusters0.6050.1641.383
createClusters20.4820.1520.601
cytoMake000
diffExpressRes2.1700.3783.429
dloadGmt1.0100.1962.052
dloadMirdb000
dloadMirtarbase0.2470.0520.288
dloadTargetscan000
eNames2.2150.3913.105
e_list_mouse0.0000.0010.001
enrichWiki1.4590.2332.202
genesList0.5290.1350.632
getIdsMir0.5760.1470.701
getIdsMrna1.4460.2282.200
gmtEnsembl1.8440.3642.710
hs_mRNA0.0010.0000.001
hs_miR0.0010.0000.001
hs_probes0.0010.0000.001
linearRegr2.7470.5283.730
long_data0.0040.0000.003
makeDynamic2.4360.4553.332
makeMapp2.0710.4032.963
makeNet0.0650.0000.062
matrixFilter0.1780.0490.218
miRTarBase0.0010.0010.002
mirMrnaInt0.2040.0370.230
mm_mRNA0.0010.0000.001
mm_miR0.0010.0000.001
multiReg2.6670.4593.645
quickBar1.4860.1992.161
quickCrossCorr2.5140.4463.429
quickDMap2.8020.5043.740
quickDendro2.6540.4783.570
quickFuzz0.6170.1251.347
quickHClust2.9700.5053.919
quickMap0.2240.0430.255
quickNet0.1030.0240.121
quickPathwayTC2.6820.5233.671
quickReg2.9760.4993.927
quickTC2.7400.6083.986
quickTCPred2.9210.5824.145
reduceWiki0.2730.0470.306
returnCluster0.9040.2301.688
significantVals0.2630.0540.302
startObject0.1020.0160.113
turnPercent0.3160.0690.365
w_list_mouse0.0010.0000.001
wikiMatrix0.1920.0210.202
wikiMrna3.2090.6864.804