Name | Last modified | Size | Description | |
---|---|---|---|---|
Parent Directory | - | |||
buildbin-out.txt | 29-Jun-2024 06:42 | 2.0K | ||
buildbin-summary.dcf | 29-Jun-2024 06:42 | 539 | ||
buildsrc-out.txt | 29-Jun-2024 06:42 | 972 | ||
buildsrc-summary.dcf | 29-Jun-2024 06:42 | 468 | ||
checksrc-out.txt | 29-Jun-2024 06:42 | 4.2K | ||
checksrc-summary.dcf | 29-Jun-2024 06:42 | 463 | ||
install-out.txt | 29-Jun-2024 06:42 | 1.9K | ||
install-summary.dcf | 29-Jun-2024 06:42 | 276 | ||