![]() | Name | Last modified | Size | Description |
---|---|---|---|---|
![]() | Parent Directory | - | ||
![]() | buildsrc-out.txt | 01-Oct-2023 00:35 | 900 | |
![]() | buildsrc-summary.dcf | 01-Oct-2023 00:35 | 429 | |
![]() | checksrc-out.txt | 01-Oct-2023 00:35 | 4.0K | |
![]() | checksrc-summary.dcf | 01-Oct-2023 00:35 | 436 | |
![]() | install-out.txt | 01-Oct-2023 00:35 | 1.8K | |
![]() | install-summary.dcf | 01-Oct-2023 00:35 | 267 | |