![]() | Name | Last modified | Size | Description |
---|---|---|---|---|
![]() | Parent Directory | - | ||
![]() | buildbin-out.txt | 28-Sep-2023 00:37 | 4.3K | |
![]() | buildbin-summary.dcf | 28-Sep-2023 00:37 | 554 | |
![]() | buildsrc-out.txt | 28-Sep-2023 00:37 | 910 | |
![]() | buildsrc-summary.dcf | 28-Sep-2023 00:37 | 439 | |
![]() | checksrc-out.txt | 28-Sep-2023 00:37 | 4.0K | |
![]() | checksrc-summary.dcf | 28-Sep-2023 00:37 | 466 | |
![]() | install-out.txt | 28-Sep-2023 00:37 | 2.2K | |
![]() | install-summary.dcf | 28-Sep-2023 00:37 | 277 | |