Index of /checkResults/release/bioc-LATEST/TileDBArray/raw-results
Name
Last modified
Size
Description
Parent Directory
-
info.dcf
04-Oct-2023 00:38
297
merida1/
04-Oct-2023 00:38
-
nebbiolo1/
04-Oct-2023 00:36
-
palomino3/
04-Oct-2023 00:37
-