Back to Multiple platform build/check report for BioC 3.14
ABCDEFGHIJKLMNOPQRS[T]UVWXYZ

This page was generated on 2021-12-03 13:05:35 -0500 (Fri, 03 Dec 2021).

CHECK results for TargetScore on tokay2

To the developers/maintainers of the TargetScore package:
- Please allow up to 24 hours (and sometimes 48 hours) for your latest push to git@git.bioconductor.org:packages/TargetScore.git to
reflect on this report. See How and When does the builder pull? When will my changes propagate? here for more information.
- Make sure to use the following settings in order to reproduce any error or warning you see on this page.

raw results

Package 1932/2083HostnameOS / ArchINSTALLBUILDCHECKBUILD BIN
TargetScore 1.32.0  (landing page)
Yue Li
Snapshot Date: 2021-12-02 01:55:06 -0500 (Thu, 02 Dec 2021)
git_url: https://git.bioconductor.org/packages/TargetScore
git_branch: RELEASE_3_14
git_last_commit: 1b24f38
git_last_commit_date: 2021-10-26 12:08:57 -0500 (Tue, 26 Oct 2021)
nebbiolo2Linux (Ubuntu 20.04.3 LTS) / x86_64  OK    OK    OK  UNNEEDED, same version is already published
tokay2Windows Server 2012 R2 Standard / x64  OK    OK    OK    OK  UNNEEDED, same version is already published
machv2macOS 10.14.6 Mojave / x86_64  OK    OK    OK    OK  UNNEEDED, same version is already published

Summary

Package: TargetScore
Version: 1.32.0
Command: C:\Users\biocbuild\bbs-3.14-bioc\R\bin\R.exe CMD check --force-multiarch --install=check:TargetScore.install-out.txt --library=C:\Users\biocbuild\bbs-3.14-bioc\R\library --no-vignettes --timings TargetScore_1.32.0.tar.gz
StartedAt: 2021-12-03 04:22:15 -0500 (Fri, 03 Dec 2021)
EndedAt: 2021-12-03 04:23:17 -0500 (Fri, 03 Dec 2021)
EllapsedTime: 61.9 seconds
RetCode: 0
Status:   OK  
CheckDir: TargetScore.Rcheck
Warnings: 0

Command output

##############################################################################
##############################################################################
###
### Running command:
###
###   C:\Users\biocbuild\bbs-3.14-bioc\R\bin\R.exe CMD check --force-multiarch --install=check:TargetScore.install-out.txt --library=C:\Users\biocbuild\bbs-3.14-bioc\R\library --no-vignettes --timings TargetScore_1.32.0.tar.gz
###
##############################################################################
##############################################################################


* using log directory 'C:/Users/biocbuild/bbs-3.14-bioc/meat/TargetScore.Rcheck'
* using R version 4.1.2 (2021-11-01)
* using platform: x86_64-w64-mingw32 (64-bit)
* using session charset: ISO8859-1
* using option '--no-vignettes'
* checking for file 'TargetScore/DESCRIPTION' ... OK
* checking extension type ... Package
* this is package 'TargetScore' version '1.32.0'
* checking package namespace information ... OK
* checking package dependencies ... OK
* checking if this is a source package ... OK
* checking if there is a namespace ... OK
* checking for hidden files and directories ... OK
* checking for portable file names ... OK
* checking whether package 'TargetScore' can be installed ... OK
* checking installed package size ... OK
* checking package directory ... OK
* checking 'build' directory ... OK
* checking DESCRIPTION meta-information ... OK
* checking top-level files ... OK
* checking for left-over files ... OK
* checking index information ... OK
* checking package subdirectories ... OK
* checking R files for non-ASCII characters ... OK
* checking R files for syntax errors ... OK
* loading checks for arch 'i386'
** checking whether the package can be loaded ... OK
** checking whether the package can be loaded with stated dependencies ... OK
** checking whether the package can be unloaded cleanly ... OK
** checking whether the namespace can be loaded with stated dependencies ... OK
** checking whether the namespace can be unloaded cleanly ... OK
* loading checks for arch 'x64'
** checking whether the package can be loaded ... OK
** checking whether the package can be loaded with stated dependencies ... OK
** checking whether the package can be unloaded cleanly ... OK
** checking whether the namespace can be loaded with stated dependencies ... OK
** checking whether the namespace can be unloaded cleanly ... OK
* checking dependencies in R code ... OK
* checking S3 generic/method consistency ... OK
* checking replacement functions ... OK
* checking foreign function calls ... OK
* checking R code for possible problems ... NOTE
dot.ext: no visible global function definition for 'size'
getTargetScores: no visible global function definition for
  'get_TargetScanHuman_contextScore'
getTargetScores: no visible global function definition for
  'get_TargetScanHuman_PCT'
getTargetScores: no visible global function definition for
  'get_validated_targets'
getTargetScores: no visible global function definition for
  'get_miRNA_family_info'
getTargetScores: no visible binding for global variable 'logFC.imputed'
getTargetScores : <anonymous>: no visible global function definition
  for 'cor'
getTargetScores: no visible global function definition for 'aggregate'
logmvgamma: no visible global function definition for 'size'
targetScore: no visible global function definition for 'as.roman'
targetScore : <anonymous>: no visible global function definition for
  'as.roman'
targetScore: no visible global function definition for 'sigmoid'
Undefined global functions or variables:
  aggregate as.roman cor get_TargetScanHuman_PCT
  get_TargetScanHuman_contextScore get_miRNA_family_info
  get_validated_targets logFC.imputed sigmoid size
Consider adding
  importFrom("stats", "aggregate", "cor")
  importFrom("utils", "as.roman")
to your NAMESPACE file.
* checking Rd files ... OK
* checking Rd metadata ... OK
* checking Rd cross-references ... OK
* checking for missing documentation entries ... OK
* checking for code/documentation mismatches ... OK
* checking Rd \usage sections ... OK
* checking Rd contents ... OK
* checking for unstated dependencies in examples ... OK
* checking files in 'vignettes' ... OK
* checking examples ...
** running examples for arch 'i386' ... OK
** running examples for arch 'x64' ... OK
* checking for unstated dependencies in vignettes ... OK
* checking package vignettes in 'inst/doc' ... OK
* checking running R code from vignettes ... SKIPPED
* checking re-building of vignette outputs ... SKIPPED
* checking PDF version of manual ... OK
* DONE

Status: 1 NOTE
See
  'C:/Users/biocbuild/bbs-3.14-bioc/meat/TargetScore.Rcheck/00check.log'
for details.



Installation output

TargetScore.Rcheck/00install.out

##############################################################################
##############################################################################
###
### Running command:
###
###   C:\cygwin\bin\curl.exe -O http://155.52.207.166/BBS/3.14/bioc/src/contrib/TargetScore_1.32.0.tar.gz && rm -rf TargetScore.buildbin-libdir && mkdir TargetScore.buildbin-libdir && C:\Users\biocbuild\bbs-3.14-bioc\R\bin\R.exe CMD INSTALL --merge-multiarch --build --library=TargetScore.buildbin-libdir TargetScore_1.32.0.tar.gz && C:\Users\biocbuild\bbs-3.14-bioc\R\bin\R.exe CMD INSTALL TargetScore_1.32.0.zip && rm TargetScore_1.32.0.tar.gz TargetScore_1.32.0.zip
###
##############################################################################
##############################################################################


  % Total    % Received % Xferd  Average Speed   Time    Time     Time  Current
                                 Dload  Upload   Total   Spent    Left  Speed

  0     0    0     0    0     0      0      0 --:--:-- --:--:-- --:--:--     0
100  419k  100  419k    0     0  1441k      0 --:--:-- --:--:-- --:--:-- 1448k

install for i386

* installing *source* package 'TargetScore' ...
** using staged installation
** R
** inst
** byte-compile and prepare package for lazy loading
** help
*** installing help indices
  converting help for package 'TargetScore'
    finding HTML links ... done
    TargetScore-package                     html  
    bsxfun.se                               html  
    dot.ext                                 html  
    getTargetScores                         html  
    initialization                          html  
    logmvgamma                              html  
    logsumexp                               html  
    sort_components                         html  
    targetScore                             html  
REDIRECT:topic	 Previous alias or file overwritten by alias: C:/Users/biocbuild/bbs-3.14-bioc/meat/TargetScore.buildbin-libdir/00LOCK-TargetScore/00new/TargetScore/help/targetScore.html
    vbgmm                                   html  
    vbound                                  html  
    vexp                                    html  
    vmax                                    html  
** building package indices
** installing vignettes
** testing if installed package can be loaded from temporary location
** testing if installed package can be loaded from final location
** testing if installed package keeps a record of temporary installation path

install for x64

* installing *source* package 'TargetScore' ...
** testing if installed package can be loaded
* MD5 sums
packaged installation of 'TargetScore' as TargetScore_1.32.0.zip
* DONE (TargetScore)
* installing to library 'C:/Users/biocbuild/bbs-3.14-bioc/R/library'
package 'TargetScore' successfully unpacked and MD5 sums checked

Tests output


Example timings

TargetScore.Rcheck/examples_i386/TargetScore-Ex.timings

nameusersystemelapsed
TargetScore-package000
bsxfun.se000
dot.ext000
getTargetScores0.010.000.01
initialization000
logmvgamma0.020.000.02
logsumexp000
sort_components0.110.020.12
targetScore0.510.000.52
vbgmm0.080.000.08
vbound0.080.000.08
vexp0.070.000.08
vmax0.080.000.07

TargetScore.Rcheck/examples_x64/TargetScore-Ex.timings

nameusersystemelapsed
TargetScore-package000
bsxfun.se000
dot.ext000
getTargetScores000
initialization0.010.000.02
logmvgamma000
logsumexp000
sort_components0.110.000.11
targetScore0.410.010.42
vbgmm0.080.000.08
vbound0.080.000.08
vexp0.070.000.07
vmax0.080.000.08