Index of /checkResults/release/bioc-LATEST/TVTB/raw-results
Name
Last modified
Size
Description
Parent Directory
-
info.dcf
12-Jun-2024 03:39
271
nebbiolo1/
12-Jun-2024 03:40
-
merida1/
05-Mar-2024 01:40
-
lconway/
12-Jun-2024 03:43
-
kunpeng2/
10-May-2024 00:41
-
kjohnson3/
12-Jun-2024 03:44
-