Back to Multiple platform build/check report for BioC 3.14
ABCDEFGHIJKLMNOPQRS[T]UVWXYZ

This page was generated on 2021-12-03 13:05:37 -0500 (Fri, 03 Dec 2021).

BUILD BIN results for TSRchitect on tokay2

To the developers/maintainers of the TSRchitect package:
- Please allow up to 24 hours (and sometimes 48 hours) for your latest push to git@git.bioconductor.org:packages/TSRchitect.git to
reflect on this report. See How and When does the builder pull? When will my changes propagate? here for more information.
- Make sure to use the following settings in order to reproduce any error or warning you see on this page.

raw results

Package 2013/2083HostnameOS / ArchINSTALLBUILDCHECKBUILD BIN
TSRchitect 1.20.0  (landing page)
R. Taylor Raborn
Snapshot Date: 2021-12-02 01:55:06 -0500 (Thu, 02 Dec 2021)
git_url: https://git.bioconductor.org/packages/TSRchitect
git_branch: RELEASE_3_14
git_last_commit: 3f5e213
git_last_commit_date: 2021-10-26 12:35:22 -0500 (Tue, 26 Oct 2021)
nebbiolo2Linux (Ubuntu 20.04.3 LTS) / x86_64  OK    OK    WARNINGS  UNNEEDED, same version is already published
tokay2Windows Server 2012 R2 Standard / x64  OK    OK    WARNINGS    OK  UNNEEDED, same version is already published
machv2macOS 10.14.6 Mojave / x86_64  OK    OK    WARNINGS    OK  UNNEEDED, same version is already published

Summary

Package: TSRchitect
Version: 1.20.0
Command: rm -rf TSRchitect.buildbin-libdir && mkdir TSRchitect.buildbin-libdir && C:\Users\biocbuild\bbs-3.14-bioc\R\bin\R.exe CMD INSTALL --merge-multiarch --build --library=TSRchitect.buildbin-libdir TSRchitect_1.20.0.tar.gz
StartedAt: 2021-12-03 10:46:45 -0500 (Fri, 03 Dec 2021)
EndedAt: 2021-12-03 10:48:14 -0500 (Fri, 03 Dec 2021)
EllapsedTime: 88.9 seconds
RetCode: 0
Status:   OK  
PackageFile: TSRchitect_1.20.0.zip
PackageFileSize: 1.288 MiB

Command output

##############################################################################
##############################################################################
###
### Running command:
###
###   rm -rf TSRchitect.buildbin-libdir && mkdir TSRchitect.buildbin-libdir && C:\Users\biocbuild\bbs-3.14-bioc\R\bin\R.exe CMD INSTALL --merge-multiarch --build --library=TSRchitect.buildbin-libdir TSRchitect_1.20.0.tar.gz
###
##############################################################################
##############################################################################



install for i386

* installing *source* package 'TSRchitect' ...
** using staged installation
** R
** inst
** byte-compile and prepare package for lazy loading
** help
*** installing help indices
  converting help for package 'TSRchitect'
    finding HTML links ... done
    TSRchitectUsersGuide                    html  
    TSRmshapeIndex                          html  
    TSRshapeIndex                           html  
    addAnnotationToTSR-methods              html  
    finding level-2 HTML links ... done

    addTagCountsToTSR-methods               html  
    bedToTSS-methods                        html  
    createSummarizedExperiment-methods      html  
    detTSR-methods                          html  
    determineTSR-methods                    html  
    getBamDataFirstRead-methods             html  
    getBamDataLastRead-methods              html  
    getFileNames-methods                    html  
    getTSRdata-methods                      html  
    getTSScountData-methods                 html  
    getTSStagData-methods                   html  
    getTitle-methods                        html  
    gsq2bed-methods                         html  
    importAnnotationExternal-methods        html  
    importAnnotationHub-methods             html  
    inputToTSS-methods                      html  
    loadTSSobj-methods                      html  
    makeGRangesFromTSR-methods              html  
    mergeSampleData-methods                 html  
    prcTSS                                  html  
    processTSS-methods                      html  
    tagCountTSS                             html  
    tsrCluster                              html  
    tssArrayProperties                      html  
    tssObject                               html  
    writeTSR-methods                        html  
    writeTSS-methods                        html  
** building package indices
** installing vignettes
** testing if installed package can be loaded from temporary location
** testing if installed package can be loaded from final location
** testing if installed package keeps a record of temporary installation path

install for x64

* installing *source* package 'TSRchitect' ...
** testing if installed package can be loaded
* MD5 sums
packaged installation of 'TSRchitect' as TSRchitect_1.20.0.zip
* DONE (TSRchitect)