Index of /checkResults/release/bioc-LATEST/TSRchitect/raw-results/riesling1

[ICO]NameLast modifiedSizeDescription

[DIR]Parent Directory  -  
[TXT]buildbin-out.txt19-Mar-2022 00:08 3.0K 
[   ]buildbin-summary.dcf19-Mar-2022 00:08 532  
[TXT]buildsrc-out.txt19-Mar-2022 00:08 1.0K 
[   ]buildsrc-summary.dcf19-Mar-2022 00:08 464  
[TXT]checksrc-out.txt19-Mar-2022 00:08 1.4K 
[   ]checksrc-summary.dcf19-Mar-2022 00:08 461  
[TXT]install-out.txt19-Mar-2022 00:08 3.0K 
[   ]install-summary.dcf19-Mar-2022 00:08 274