Index of /checkResults/release/bioc-LATEST/TSRchitect/raw-results/palomino3

[ICO]NameLast modifiedSizeDescription

[DIR]Parent Directory  -  
[TXT]install-out.txt04-Aug-2022 02:22 1.2K 
[   ]install-summary.dcf04-Aug-2022 02:22 274  
[TXT]buildsrc-out.txt04-Aug-2022 02:22 1.0K 
[   ]buildsrc-summary.dcf04-Aug-2022 02:22 464  
[TXT]checksrc-out.txt04-Aug-2022 02:22 1.4K 
[   ]checksrc-summary.dcf04-Aug-2022 02:22 461  
[TXT]buildbin-out.txt04-Aug-2022 02:22 1.3K 
[   ]buildbin-summary.dcf04-Aug-2022 02:22 533