Index of /checkResults/release/bioc-LATEST/TSRchitect/raw-results/nebbiolo1

[ICO]NameLast modifiedSizeDescription

[DIR]Parent Directory  -  
[TXT]buildsrc-out.txt28-Jun-2022 00:10 1.0K 
[   ]buildsrc-summary.dcf28-Jun-2022 00:10 426  
[TXT]checksrc-out.txt28-Jun-2022 00:10 1.4K 
[   ]checksrc-summary.dcf28-Jun-2022 00:10 438  
[TXT]install-out.txt28-Jun-2022 00:10 1.1K 
[   ]install-summary.dcf28-Jun-2022 00:10 265