Index of /checkResults/release/bioc-LATEST/TSRchitect/raw-results/merida1

[ICO]NameLast modifiedSizeDescription

[DIR]Parent Directory  -  
[TXT]buildbin-out.txt23-Jun-2022 01:09 1.4K 
[   ]buildbin-summary.dcf23-Jun-2022 01:09 548  
[TXT]buildsrc-out.txt25-Jun-2022 01:08 1.0K 
[   ]buildsrc-summary.dcf25-Jun-2022 01:08 436  
[TXT]checksrc-out.txt25-Jun-2022 01:08 1.4K 
[   ]checksrc-summary.dcf25-Jun-2022 01:08 458  
[TXT]install-out.txt25-Jun-2022 01:08 1.2K 
[   ]install-summary.dcf25-Jun-2022 01:08 275