Index of /checkResults/release/bioc-LATEST/TSRchitect/raw-results

[ICO]NameLast modifiedSizeDescription

[DIR]Parent Directory  -  
[DIR]riesling1/19-Mar-2022 00:08 -  
[DIR]nebbiolo1/26-May-2022 01:06 -  
[DIR]palomino3/26-May-2022 01:07 -  
[   ]info.dcf26-May-2022 01:08 281  
[DIR]merida1/26-May-2022 01:08 -