Back to Multiple platform build/check report for BioC 3.14
ABCDEFGHIJKLMNOPQRS[T]UVWXYZ

This page was generated on 2021-12-01 17:18:37 -0500 (Wed, 01 Dec 2021).

INSTALL results for TSRchitect on machv2

To the developers/maintainers of the TSRchitect package:
- Please allow up to 24 hours (and sometimes 48 hours) for your latest push to git@git.bioconductor.org:packages/TSRchitect.git to
reflect on this report. See How and When does the builder pull? When will my changes propagate? here for more information.
- Make sure to use the following settings in order to reproduce any error or warning you see on this page.

raw results

Package 2013/2083HostnameOS / ArchINSTALLBUILDCHECKBUILD BIN
TSRchitect 1.20.0  (landing page)
R. Taylor Raborn
Snapshot Date: 2021-11-30 04:15:05 -0500 (Tue, 30 Nov 2021)
git_url: https://git.bioconductor.org/packages/TSRchitect
git_branch: RELEASE_3_14
git_last_commit: 3f5e213
git_last_commit_date: 2021-10-26 12:35:22 -0500 (Tue, 26 Oct 2021)
nebbiolo2Linux (Ubuntu 20.04.3 LTS) / x86_64  OK    OK    WARNINGS  UNNEEDED, same version is already published
tokay2Windows Server 2012 R2 Standard / x64  OK    OK    WARNINGS    OK  UNNEEDED, same version is already published
machv2macOS 10.14.6 Mojave / x86_64  OK    OK    WARNINGS    OK  UNNEEDED, same version is already published

Summary

Package: TSRchitect
Version: 1.20.0
Command: /Library/Frameworks/R.framework/Resources/bin/R CMD INSTALL TSRchitect
StartedAt: 2021-11-30 06:53:14 -0500 (Tue, 30 Nov 2021)
EndedAt: 2021-11-30 06:54:04 -0500 (Tue, 30 Nov 2021)
EllapsedTime: 49.7 seconds
RetCode: 0
Status:   OK  

Command output

##############################################################################
##############################################################################
###
### Running command:
###
###   /Library/Frameworks/R.framework/Resources/bin/R CMD INSTALL TSRchitect
###
##############################################################################
##############################################################################


* installing to library ‘/Library/Frameworks/R.framework/Versions/4.1/Resources/library’
* installing *source* package ‘TSRchitect’ ...
** using staged installation
** R
** demo
** inst
** byte-compile and prepare package for lazy loading
** help
*** installing help indices
** building package indices
** installing vignettes
   ‘TSRchitect.Rmd’ using ‘UTF-8’ 
   ‘TSRchitectUsersGuide.Rmd’ using ‘UTF-8’ 
** testing if installed package can be loaded from temporary location
** testing if installed package can be loaded from final location
** testing if installed package keeps a record of temporary installation path
* DONE (TSRchitect)