Back to Multiple platform build/check report for BioC 3.14
ABCDEFGHIJKLMNOPQRS[T]UVWXYZ

This page was generated on 2021-12-01 17:18:37 -0500 (Wed, 01 Dec 2021).

BUILD results for TSRchitect on machv2

To the developers/maintainers of the TSRchitect package:
- Please allow up to 24 hours (and sometimes 48 hours) for your latest push to git@git.bioconductor.org:packages/TSRchitect.git to
reflect on this report. See How and When does the builder pull? When will my changes propagate? here for more information.
- Make sure to use the following settings in order to reproduce any error or warning you see on this page.

raw results

Package 2013/2083HostnameOS / ArchINSTALLBUILDCHECKBUILD BIN
TSRchitect 1.20.0  (landing page)
R. Taylor Raborn
Snapshot Date: 2021-11-30 04:15:05 -0500 (Tue, 30 Nov 2021)
git_url: https://git.bioconductor.org/packages/TSRchitect
git_branch: RELEASE_3_14
git_last_commit: 3f5e213
git_last_commit_date: 2021-10-26 12:35:22 -0500 (Tue, 26 Oct 2021)
nebbiolo2Linux (Ubuntu 20.04.3 LTS) / x86_64  OK    OK    WARNINGS  UNNEEDED, same version is already published
tokay2Windows Server 2012 R2 Standard / x64  OK    OK    WARNINGS    OK  UNNEEDED, same version is already published
machv2macOS 10.14.6 Mojave / x86_64  OK    OK    WARNINGS    OK  UNNEEDED, same version is already published

Summary

Package: TSRchitect
Version: 1.20.0
Command: /Library/Frameworks/R.framework/Resources/bin/R CMD build --keep-empty-dirs --no-resave-data TSRchitect
StartedAt: 2021-11-30 12:55:44 -0500 (Tue, 30 Nov 2021)
EndedAt: 2021-11-30 12:56:54 -0500 (Tue, 30 Nov 2021)
EllapsedTime: 70.3 seconds
RetCode: 0
Status:   OK  
PackageFile: TSRchitect_1.20.0.tar.gz
PackageFileSize: 868.9 KiB

Command output

##############################################################################
##############################################################################
###
### Running command:
###
###   /Library/Frameworks/R.framework/Resources/bin/R CMD build --keep-empty-dirs --no-resave-data TSRchitect
###
##############################################################################
##############################################################################


* checking for file ‘TSRchitect/DESCRIPTION’ ... OK
* preparing ‘TSRchitect’:
* checking DESCRIPTION meta-information ... OK
* installing the package to build vignettes
* creating vignettes ... OK
* excluding invalid files
Subdirectory 'demo' contains invalid file names:
  ‘HOWTO.md’ ‘xdemo1’ ‘xdemo2’ ‘xdemo3’
* checking for LF line-endings in source and make files and shell scripts
* checking for empty or unneeded directories
WARNING: directory ‘TSRchitect/demo’ is empty
* building ‘TSRchitect_1.20.0.tar.gz’