Name | Last modified | Size | Description | |
---|---|---|---|---|
Parent Directory | - | |||
buildsrc-out.txt | 03-May-2024 00:42 | 1.0K | ||
buildsrc-summary.dcf | 03-May-2024 00:42 | 422 | ||
checksrc-out.txt | 03-May-2024 00:42 | 4.1K | ||
checksrc-summary.dcf | 03-May-2024 00:42 | 449 | ||
install-out.txt | 03-May-2024 00:42 | 1.0K | ||
install-summary.dcf | 03-May-2024 00:42 | 266 | ||