Name | Last modified | Size | Description | |
---|---|---|---|---|
Parent Directory | - | |||
buildsrc-summary.dcf | 10-May-2024 00:41 | 417 | ||
buildsrc-out.txt | 10-May-2024 00:41 | 864 | ||
install-summary.dcf | 10-May-2024 00:41 | 262 | ||
install-out.txt | 10-May-2024 00:41 | 970 | ||
checksrc-summary.dcf | 09-May-2024 00:41 | 435 | ||
checksrc-out.txt | 09-May-2024 00:41 | 7.4K | ||