Index of /checkResults/release/bioc-LATEST/TPP/raw-results/kjohnson3
Name
Last modified
Size
Description
Parent Directory
-
buildsrc-out.txt
12-Jun-2024 03:44
2.4K
install-out.txt
12-Jun-2024 03:44
1.0K
buildsrc-summary.dcf
12-Jun-2024 03:44
336
install-summary.dcf
12-Jun-2024 03:44
261