Index of /checkResults/release/bioc-LATEST/TPP/raw-results
Name
Last modified
Size
Description
Parent Directory
-
info.dcf
23-May-2024 00:34
264
kunpeng2/
10-May-2024 00:41
-
lconway/
23-May-2024 00:37
-
merida1/
05-Mar-2024 01:40
-
nebbiolo1/
23-May-2024 00:35
-
palomino3/
23-May-2024 00:36
-