Index of /checkResults/release/bioc-LATEST/TNBC.CMS/raw-results/palomino7
Name
Last modified
Size
Description
Parent Directory
-
install-out.txt
17-Jul-2024 06:40
1.2K
install-summary.dcf
17-Jul-2024 06:40
270
buildsrc-out.txt
17-Jul-2024 06:40
1.1K
buildsrc-summary.dcf
17-Jul-2024 06:40
371