Name | Last modified | Size | Description | |
---|---|---|---|---|
Parent Directory | - | |||
buildsrc-out.txt | 17-Jul-2024 06:39 | 1.1K | ||
buildsrc-summary.dcf | 17-Jul-2024 06:39 | 335 | ||
checksrc-out.txt | 15-Dec-2023 02:22 | 3.4K | ||
checksrc-summary.dcf | 15-Dec-2023 02:22 | 418 | ||
install-out.txt | 17-Jul-2024 06:39 | 1.2K | ||
install-summary.dcf | 17-Jul-2024 06:39 | 261 | ||