Index of /checkResults/release/bioc-LATEST/TNBC.CMS/raw-results/lconway
Name
Last modified
Size
Description
Parent Directory
-
install-summary.dcf
12-Jun-2024 03:43
271
install-out.txt
12-Jun-2024 03:43
1.2K
buildsrc-summary.dcf
12-Jun-2024 03:43
345
buildsrc-out.txt
12-Jun-2024 03:43
1.1K