Name | Last modified | Size | Description | |
---|---|---|---|---|
Parent Directory | - | |||
checksrc-out.txt | 15-Dec-2023 02:25 | 3.4K | ||
install-out.txt | 10-May-2024 00:41 | 1.2K | ||
buildsrc-out.txt | 10-May-2024 00:41 | 1.1K | ||
checksrc-summary.dcf | 15-Dec-2023 02:25 | 451 | ||
buildsrc-summary.dcf | 10-May-2024 00:41 | 346 | ||
install-summary.dcf | 10-May-2024 00:41 | 272 | ||