Index of /checkResults/release/bioc-LATEST/TNBC.CMS/raw-results/kjohnson3
Name
Last modified
Size
Description
Parent Directory
-
buildsrc-summary.dcf
12-Jun-2024 03:44
345
buildsrc-out.txt
12-Jun-2024 03:44
1.1K
install-summary.dcf
12-Jun-2024 03:44
271
install-out.txt
12-Jun-2024 03:44
1.2K